Workbook

Sheet Group order
A1: NPTE Final Frontier - Group Enrollment Form
A2: One row per student. Choose each student's course from the drop-down in the Course column. When the list is complete, upload this file at https://npteff.com/university-partners/ (or paste the rows, or your Google Sheets link, there).
A3: After you submit, everyone should watch their email - including spam and junk folders.
A5: Group name
A6: How are you paying? | D6: Individually (each student pays)
A7: Students | D7: =COUNTA(D12:D111) | G7: Regular total | H7: =SUM(G12:G111)
A8: Group discount | D8: =IF(D7>=21,0.2,IF(D7>=10,0.15,IF(D7>=3,0.1,0))) | G8: Group total | H8: =SUM(H12:H111)
A9: Single-payment bonus | D9: =IF(AND(LEFT(D6,6)="Single",D7>=11),0.1,0) | G9: You save | H9: =H7-H8
A10: Total discount | D10: =MIN(1,D8+D9)
A11: # | B11: First name | C11: Last name | D11: Email | E11: Expected NPTE date | F11: Course (choose from the list) | G11: Regular price | H11: Group price
A12: 1 | G12: =IF(F12="","",VLOOKUP(F12,Courses!$A$2:$C$19,2,FALSE)) | H12: =IF(F12="","",MIN(ROUND(G12*(1-$D$10),2),VLOOKUP(F12,Courses!$A$2:$C$19,3,FALSE)))
A13: 2 | G13: =IF(F13="","",VLOOKUP(F13,Courses!$A$2:$C$19,2,FALSE)) | H13: =IF(F13="","",MIN(ROUND(G13*(1-$D$10),2),VLOOKUP(F13,Courses!$A$2:$C$19,3,FALSE)))
A14: 3 | G14: =IF(F14="","",VLOOKUP(F14,Courses!$A$2:$C$19,2,FALSE)) | H14: =IF(F14="","",MIN(ROUND(G14*(1-$D$10),2),VLOOKUP(F14,Courses!$A$2:$C$19,3,FALSE)))
A15: 4 | G15: =IF(F15="","",VLOOKUP(F15,Courses!$A$2:$C$19,2,FALSE)) | H15: =IF(F15="","",MIN(ROUND(G15*(1-$D$10),2),VLOOKUP(F15,Courses!$A$2:$C$19,3,FALSE)))
A16: 5 | G16: =IF(F16="","",VLOOKUP(F16,Courses!$A$2:$C$19,2,FALSE)) | H16: =IF(F16="","",MIN(ROUND(G16*(1-$D$10),2),VLOOKUP(F16,Courses!$A$2:$C$19,3,FALSE)))
A17: 6 | G17: =IF(F17="","",VLOOKUP(F17,Courses!$A$2:$C$19,2,FALSE)) | H17: =IF(F17="","",MIN(ROUND(G17*(1-$D$10),2),VLOOKUP(F17,Courses!$A$2:$C$19,3,FALSE)))
A18: 7 | G18: =IF(F18="","",VLOOKUP(F18,Courses!$A$2:$C$19,2,FALSE)) | H18: =IF(F18="","",MIN(ROUND(G18*(1-$D$10),2),VLOOKUP(F18,Courses!$A$2:$C$19,3,FALSE)))
A19: 8 | G19: =IF(F19="","",VLOOKUP(F19,Courses!$A$2:$C$19,2,FALSE)) | H19: =IF(F19="","",MIN(ROUND(G19*(1-$D$10),2),VLOOKUP(F19,Courses!$A$2:$C$19,3,FALSE)))
A20: 9 | G20: =IF(F20="","",VLOOKUP(F20,Courses!$A$2:$C$19,2,FALSE)) | H20: =IF(F20="","",MIN(ROUND(G20*(1-$D$10),2),VLOOKUP(F20,Courses!$A$2:$C$19,3,FALSE)))
A21: 10 | G21: =IF(F21="","",VLOOKUP(F21,Courses!$A$2:$C$19,2,FALSE)) | H21: =IF(F21="","",MIN(ROUND(G21*(1-$D$10),2),VLOOKUP(F21,Courses!$A$2:$C$19,3,FALSE)))
A22: 11 | G22: =IF(F22="","",VLOOKUP(F22,Courses!$A$2:$C$19,2,FALSE)) | H22: =IF(F22="","",MIN(ROUND(G22*(1-$D$10),2),VLOOKUP(F22,Courses!$A$2:$C$19,3,FALSE)))
A23: 12 | G23: =IF(F23="","",VLOOKUP(F23,Courses!$A$2:$C$19,2,FALSE)) | H23: =IF(F23="","",MIN(ROUND(G23*(1-$D$10),2),VLOOKUP(F23,Courses!$A$2:$C$19,3,FALSE)))
... A111: 100 | G111: =IF(F111="","",VLOOKUP(F111,Courses!$A$2:$C$19,2,FALSE)) | H111: =IF(F111="","",MIN(ROUND(G111*(1-$D$10),2),VLOOKUP(F111,Courses!$A$2:$C$19,3,FALSE)))

Sheet Courses
A1: Course | B1: Regular price | C1: Price today
A2: PT FLC Core ($599) ($599) | B2: 599 | C2: 599
A3: PT FLC Max ($899) ($899) | B3: 899 | C3: 899
A4: PT FLC Ultimate ($999) ($999) | B4: 999 | C4: 999
A5: PT FLC Core + Pre-NPTE ($699) ($699) | B5: 699 | C5: 699
A6: PT FLC Max + Pre-NPTE ($999) ($999) | B6: 999 | C6: 999
A7: PT FLC Ultimate + Pre-NPTE ($1099) ($1,099) | B7: 1099 | C7: 1099
A8: PT SB Core ($299) ($299) | B8: 299 | C8: 299
A9: PT SB Plus ($349) ($349) | B9: 349 | C9: 349
A10: PT SB Max ($629) ($629) | B10: 629 | C10: 629
A11: PT SB Core + Pre-NPTE ($399) ($399) | B11: 399 | C11: 399
A12: PT SB Plus + Pre-NPTE ($449) ($449) | B12: 449 | C12: 449
A13: PT SB Max + Pre-NPTE ($729) ($729) | B13: 729 | C13: 729
... A19: PTA SB Max ($499) ($499) | B19: 499 | C19: 499
